BEGIN:VCALENDAR
VERSION:2.0
PRODID:-//Sabre//Sabre VObject 4.5.8//EN
CALSCALE:GREGORIAN
BEGIN:VEVENT
UID:sabre-vobject-9c77ac6b-9e70-4c1d-9237-36d34d8bccb6
DTSTAMP:20260420T223610Z
SUMMARY:Wo soll meine Lebens-Reise (noch) hingehen?
DESCRIPTION:https://keb-landkreis-augsburg.de/keb-landkreis-augsburg/verans
 taltungen-im-landkreis-augsburg/wo-soll-meine-lebens-reise-noch-hingehen_i
 d287719
DTSTART;TZID=Europe/Berlin:20260925T090000
LOCATION:Exerzitienhaus St. Paulus\, Krippackerstraße 6\, 86391 Stadtberge
 n
END:VEVENT
END:VCALENDAR
