BEGIN:VCALENDAR
VERSION:2.0
PRODID:-//Sabre//Sabre VObject 4.5.8//EN
CALSCALE:GREGORIAN
BEGIN:VEVENT
UID:sabre-vobject-ce268109-2997-4fa3-8dae-efd7648e0442
DTSTAMP:20260420T224858Z
SUMMARY:Selbstfürsorge
DESCRIPTION:https://keb-landkreis-augsburg.de/keb-landkreis-augsburg/verans
 taltungen-im-landkreis-augsburg/selbstfuersorge_id287958
DTSTART;TZID=Europe/Berlin:20260509T090000
LOCATION:Exerzitienhaus St. Paulus\, Krippackerstraße 6\, 86391 Stadtberge
 n
END:VEVENT
END:VCALENDAR
