BEGIN:VCALENDAR
VERSION:2.0
PRODID:-//Sabre//Sabre VObject 4.5.8//EN
CALSCALE:GREGORIAN
BEGIN:VEVENT
UID:sabre-vobject-9bd8c93a-332f-46d2-b82c-ad30495724cd
DTSTAMP:20260419T170439Z
SUMMARY:Eltern Kind Gruppe: Diskussionsraum über pädagogische\, psycholog
 ische und gesellschaftliche Themen rund um die Familie
DESCRIPTION:https://keb-landkreis-augsburg.de/keb-landkreis-augsburg/verans
 taltungen-im-landkreis-augsburg/eltern-kind-gruppe-diskussionsraum-ueber-p
 aedagogische-psychologische-und-gesellschaftliche-themen-rund-um-die-famil
 ie_id288319
DTSTART;TZID=Europe/Berlin:20260708T100000
DTEND;TZID=Europe/Berlin:20260708T113000
LOCATION:Pfarrheim\, Am Kirchberg 24\, 86485 Biberbach
END:VEVENT
END:VCALENDAR
