BEGIN:VCALENDAR
VERSION:2.0
PRODID:-//Sabre//Sabre VObject 4.5.8//EN
CALSCALE:GREGORIAN
BEGIN:VEVENT
UID:sabre-vobject-80d52f54-a51a-4807-95a0-24f5668bbf61
DTSTAMP:20260421T212300Z
SUMMARY:Treffpunkt "ErlebnisTanz – Entdecken Sie die Welt des Tanzes durc
 h Kultur und Geschichte" - April bis Juli
DESCRIPTION:https://keb-landkreis-augsburg.de/keb-landkreis-augsburg/verans
 taltungen-im-landkreis-augsburg/treffpunkt-erlebnistanz-entdecken-sie-die-
 welt-des-tanzes-durch-kultur-und-geschichte-april-bis-juli_id291099
DTSTART;TZID=Europe/Berlin:20260506T143000
DTEND;TZID=Europe/Berlin:20260506T160000
LOCATION:Klostergebäude\, Franziskanerplatz 6\, 86836 Klosterlechfeld
END:VEVENT
END:VCALENDAR
