BEGIN:VCALENDAR
VERSION:2.0
PRODID:-//Sabre//Sabre VObject 4.5.8//EN
CALSCALE:GREGORIAN
BEGIN:VEVENT
UID:sabre-vobject-092ec755-f3b1-4160-9da5-464c6f7bc478
DTSTAMP:20260424T090310Z
SUMMARY:Stuhlgymnastik
DESCRIPTION:https://keb-landkreis-augsburg.de/keb-landkreis-augsburg/verans
 taltungen-im-landkreis-augsburg/stuhlgymnastik_id293206
DTSTART;TZID=Europe/Berlin:20260423T101500
DTEND;TZID=Europe/Berlin:20260423T110000
LOCATION:Pfarrzentrum\, Auer Kirchweg 2\, 86424 Dinkelscherben
END:VEVENT
END:VCALENDAR
