BEGIN:VCALENDAR
VERSION:2.0
PRODID:-//Sabre//Sabre VObject 4.5.8//EN
CALSCALE:GREGORIAN
BEGIN:VEVENT
UID:sabre-vobject-d5eba987-6c83-4a66-9ba4-be1bc8758c9b
DTSTAMP:20260419T140145Z
SUMMARY:Eltern Kind Gruppe: Erfahrungsaustausch zur Erziehung für Eltern v
 on Kleinkindern
DESCRIPTION:https://keb-landkreis-augsburg.de/keb-landkreis-augsburg/verans
 taltungen-im-landkreis-augsburg/eltern-kind-gruppe-erfahrungsaustausch-zur
 -erziehung-fuer-eltern-von-kleinkindern_id294428
DTSTART;TZID=Europe/Berlin:20260702T093000
DTEND;TZID=Europe/Berlin:20260702T110000
LOCATION:Bürgerhaus Allmanshofen\, Kirchstraße 20\, 86695 Allmannshofen
END:VEVENT
END:VCALENDAR
