BEGIN:VCALENDAR
VERSION:2.0
PRODID:-//Sabre//Sabre VObject 4.5.8//EN
CALSCALE:GREGORIAN
BEGIN:VEVENT
UID:sabre-vobject-3dbbe63e-2ba7-45b3-b177-1072fbfd1a0e
DTSTAMP:20260422T171640Z
SUMMARY:Häkeln und Stricken lernen in Untermeitingen
DESCRIPTION:https://keb-landkreis-augsburg.de/keb-landkreis-augsburg/verans
 taltungen-im-landkreis-augsburg/haekeln-und-stricken-lernen-in-untermeitin
 gen_id297370
DTSTART;TZID=Europe/Berlin:20260617T200000
DTEND;TZID=Europe/Berlin:20260617T220000
LOCATION:Bittersweet Kinderladen\, Brünnerstraße 3\, 86836 Untermeitingen
END:VEVENT
END:VCALENDAR
