BEGIN:VCALENDAR
VERSION:2.0
PRODID:-//Sabre//Sabre VObject 4.5.8//EN
CALSCALE:GREGORIAN
BEGIN:VEVENT
UID:sabre-vobject-24b59528-1c1f-46ae-9844-f89463ee6185
DTSTAMP:20260421T084617Z
SUMMARY:Eltern Kind Gruppe: Erziehungskompetenzen stärken mit Spiel und Sp
 aß
DESCRIPTION:https://keb-landkreis-augsburg.de/keb-landkreis-augsburg/verans
 taltungen-im-landkreis-augsburg/eltern-kind-gruppe-erziehungskompetenzen-s
 taerken-mit-spiel-und-spass_id298127
DTSTART;TZID=Europe/Berlin:20260626T090000
DTEND;TZID=Europe/Berlin:20260626T113000
LOCATION:KEB LDKR AUGSBURG\, Nordstraße 18\, 86462 Langweid am Lech
END:VEVENT
END:VCALENDAR
