BEGIN:VCALENDAR
VERSION:2.0
PRODID:-//Sabre//Sabre VObject 4.5.8//EN
CALSCALE:GREGORIAN
BEGIN:VEVENT
UID:sabre-vobject-61d349b5-08de-48c9-b5fe-b078b0002bc2
DTSTAMP:20260419T170527Z
SUMMARY:Eltern Kind Gruppe: Erziehungskompetenzen stärken mit Spiel und Sp
 aß
DESCRIPTION:https://keb-landkreis-augsburg.de/keb-landkreis-augsburg/verans
 taltungen-im-landkreis-augsburg/eltern-kind-gruppe-erziehungskompetenzen-s
 taerken-mit-spiel-und-spass_id298190
DTSTART;TZID=Europe/Berlin:20260709T093000
DTEND;TZID=Europe/Berlin:20260709T110000
LOCATION:KEB LDKR AUGSBURG\, Nordstraße 18\, 86462 Langweid am Lech
END:VEVENT
END:VCALENDAR
