BEGIN:VCALENDAR
VERSION:2.0
PRODID:-//Sabre//Sabre VObject 4.5.8//EN
CALSCALE:GREGORIAN
BEGIN:VEVENT
UID:sabre-vobject-bb7b685a-26d2-43aa-aaa1-4d7a328dbaf7
DTSTAMP:20260419T160318Z
SUMMARY:Eltern Kind Gruppe: Erziehungskompetenzen stärken mit Spiel und Sp
 aß
DESCRIPTION:https://keb-landkreis-augsburg.de/keb-landkreis-augsburg/verans
 taltungen-im-landkreis-augsburg/eltern-kind-gruppe-erziehungskompetenzen-s
 taerken-mit-spiel-und-spass_id298193
DTSTART;TZID=Europe/Berlin:20260720T093000
DTEND;TZID=Europe/Berlin:20260720T110000
LOCATION:KEB LDKR AUGSBURG\, Nordstraße 18\, 86462 Langweid am Lech
END:VEVENT
END:VCALENDAR
