BEGIN:VCALENDAR
VERSION:2.0
PRODID:-//Sabre//Sabre VObject 4.5.8//EN
CALSCALE:GREGORIAN
BEGIN:VEVENT
UID:sabre-vobject-7769d79c-7973-4891-a85d-cdbec03d4ffc
DTSTAMP:20260419T134621Z
SUMMARY:Eltern Kind Gruppe: Erziehungskompetenzen stärken mit Spiel und Sp
 aß
DESCRIPTION:https://keb-landkreis-augsburg.de/keb-landkreis-augsburg/verans
 taltungen-im-landkreis-augsburg/eltern-kind-gruppe-erziehungskompetenzen-s
 taerken-mit-spiel-und-spass_id298194
DTSTART;TZID=Europe/Berlin:20260723T093000
DTEND;TZID=Europe/Berlin:20260723T110000
LOCATION:KEB LDKR AUGSBURG\, Nordstraße 18\, 86462 Langweid am Lech
END:VEVENT
END:VCALENDAR
