BEGIN:VCALENDAR
VERSION:2.0
PRODID:-//Sabre//Sabre VObject 4.5.8//EN
CALSCALE:GREGORIAN
BEGIN:VEVENT
UID:sabre-vobject-99f8af4d-8abb-491e-8f42-89daedd03b32
DTSTAMP:20260418T232759Z
SUMMARY:Eltern Kind Gruppe: Erziehungskompetenzen stärken mit Spiel und Sp
 aß
DESCRIPTION:https://keb-landkreis-augsburg.de/keb-landkreis-augsburg/verans
 taltungen-im-landkreis-augsburg/eltern-kind-gruppe-erziehungskompetenzen-s
 taerken-mit-spiel-und-spass_id298203
DTSTART;TZID=Europe/Berlin:20260824T093000
DTEND;TZID=Europe/Berlin:20260824T110000
LOCATION:KEB LDKR AUGSBURG\, Nordstraße 18\, 86462 Langweid am Lech
END:VEVENT
END:VCALENDAR
