BEGIN:VCALENDAR
VERSION:2.0
PRODID:-//Sabre//Sabre VObject 4.5.8//EN
CALSCALE:GREGORIAN
BEGIN:VEVENT
UID:sabre-vobject-66f0190a-6ecd-45f6-950a-0688020226bb
DTSTAMP:20260423T221716Z
SUMMARY:Bewegung durch Ganzkörpertraining für Männer
DESCRIPTION:https://keb-landkreis-augsburg.de/keb-landkreis-augsburg/verans
 taltungen-im-landkreis-augsburg/bewegung-durch-ganzkoerpertraining-fuer-ma
 enner_id299465
DTSTART;TZID=Europe/Berlin:20260424T200000
DTEND;TZID=Europe/Berlin:20260424T220000
LOCATION:LWS Turnhalle\, Breitweg 16\, 86830 Schwabmünchen
END:VEVENT
END:VCALENDAR
