BEGIN:VCALENDAR
VERSION:2.0
PRODID:-//Sabre//Sabre VObject 4.5.8//EN
CALSCALE:GREGORIAN
BEGIN:VEVENT
UID:sabre-vobject-a497897a-eb15-4d3e-b02d-e06a1b9adea8
DTSTAMP:20260419T122738Z
SUMMARY:Eltern Kind Gruppe: wichtige Erziehungsthemen für Eltern von Klein
 kindern
DESCRIPTION:https://keb-landkreis-augsburg.de/keb-landkreis-augsburg/verans
 taltungen-im-landkreis-augsburg/eltern-kind-gruppe-wichtige-erziehungsthem
 en-fuer-eltern-von-kleinkindern_id299499
DTSTART;TZID=Europe/Berlin:20260701T094500
DTEND;TZID=Europe/Berlin:20260701T111500
LOCATION:Pfarrheim\, Hauptstraße 30\, 86877 Walkertshofen
END:VEVENT
END:VCALENDAR
