BEGIN:VCALENDAR
VERSION:2.0
PRODID:-//Sabre//Sabre VObject 4.5.8//EN
CALSCALE:GREGORIAN
BEGIN:VEVENT
UID:sabre-vobject-3bae8e50-86c9-4e2d-8b8b-94b83183c76f
DTSTAMP:20260419T170331Z
SUMMARY:Eltern Kind Gruppe: wichtige Erziehungsthemen für Eltern von Klein
 kindern
DESCRIPTION:https://keb-landkreis-augsburg.de/keb-landkreis-augsburg/verans
 taltungen-im-landkreis-augsburg/eltern-kind-gruppe-wichtige-erziehungsthem
 en-fuer-eltern-von-kleinkindern_id299500
DTSTART;TZID=Europe/Berlin:20260708T094500
DTEND;TZID=Europe/Berlin:20260708T111500
LOCATION:Pfarrheim\, Hauptstraße 30\, 86877 Walkertshofen
END:VEVENT
END:VCALENDAR
