BEGIN:VCALENDAR
VERSION:2.0
PRODID:-//Sabre//Sabre VObject 4.5.8//EN
CALSCALE:GREGORIAN
BEGIN:VEVENT
UID:sabre-vobject-af9ffbc0-2151-4bb4-b27d-a8d49beac76e
DTSTAMP:20260419T141303Z
SUMMARY:Eltern Kind Gruppe: wichtige Erziehungsthemen für Eltern von Klein
 kindern
DESCRIPTION:https://keb-landkreis-augsburg.de/keb-landkreis-augsburg/verans
 taltungen-im-landkreis-augsburg/eltern-kind-gruppe-wichtige-erziehungsthem
 en-fuer-eltern-von-kleinkindern_id299502
DTSTART;TZID=Europe/Berlin:20260722T094500
DTEND;TZID=Europe/Berlin:20260722T111500
LOCATION:Pfarrheim\, Hauptstraße 30\, 86877 Walkertshofen
END:VEVENT
END:VCALENDAR
