BEGIN:VCALENDAR
VERSION:2.0
PRODID:-//Sabre//Sabre VObject 4.5.8//EN
CALSCALE:GREGORIAN
BEGIN:VEVENT
UID:sabre-vobject-94d68bf8-92b9-481d-8408-35345f46810c
DTSTAMP:20260421T084257Z
SUMMARY:Eltern Kind Gruppe: wichtige Erziehungsthemen für Eltern von Klein
 kindern
DESCRIPTION:https://keb-landkreis-augsburg.de/keb-landkreis-augsburg/verans
 taltungen-im-landkreis-augsburg/eltern-kind-gruppe-wichtige-erziehungsthem
 en-fuer-eltern-von-kleinkindern_id299503
DTSTART;TZID=Europe/Berlin:20260729T094500
DTEND;TZID=Europe/Berlin:20260729T111500
LOCATION:Pfarrheim\, Hauptstraße 30\, 86877 Walkertshofen
END:VEVENT
END:VCALENDAR
