BEGIN:VCALENDAR
VERSION:2.0
PRODID:-//Sabre//Sabre VObject 4.5.8//EN
CALSCALE:GREGORIAN
BEGIN:VEVENT
UID:sabre-vobject-b210dd78-90c3-4e38-93c2-1549b78d6509
DTSTAMP:20260419T184945Z
SUMMARY:Eltern Kind Gruppe: Spielen und Spaß für die Kinder\, Austausch 
 über Erziehungsrelevanten Themen für die Eltern
DESCRIPTION:https://keb-landkreis-augsburg.de/keb-landkreis-augsburg/verans
 taltungen-im-landkreis-augsburg/eltern-kind-gruppe-spielen-und-spass-fuer-
 die-kinder-austausch-ueber-erziehungsrelevanten-themen-fuer-die-eltern_id2
 99532
DTSTART;TZID=Europe/Berlin:20260714T093000
DTEND;TZID=Europe/Berlin:20260714T110000
LOCATION:Gemeindezentrum Musikerraum 1.Stock\, Alpenstraße 10\, 86868 Mitt
 elneufnach
END:VEVENT
END:VCALENDAR
