BEGIN:VCALENDAR
VERSION:2.0
PRODID:-//Sabre//Sabre VObject 4.5.8//EN
CALSCALE:GREGORIAN
BEGIN:VEVENT
UID:sabre-vobject-eab8ca57-5a74-4f31-8799-8034b3f6760e
DTSTAMP:20260419T150902Z
SUMMARY:Eltern Kind Gruppe: Spielen und Spaß für die Kinder\, Austausch 
 über Erziehungsrelevanten Themen für die Eltern
DESCRIPTION:https://keb-landkreis-augsburg.de/keb-landkreis-augsburg/verans
 taltungen-im-landkreis-augsburg/eltern-kind-gruppe-spielen-und-spass-fuer-
 die-kinder-austausch-ueber-erziehungsrelevanten-themen-fuer-die-eltern_id2
 99533
DTSTART;TZID=Europe/Berlin:20260721T093000
DTEND;TZID=Europe/Berlin:20260721T110000
LOCATION:Gemeindezentrum Musikerraum 1.Stock\, Alpenstraße 10\, 86868 Mitt
 elneufnach
END:VEVENT
END:VCALENDAR
