BEGIN:VCALENDAR
VERSION:2.0
PRODID:-//Sabre//Sabre VObject 4.5.8//EN
CALSCALE:GREGORIAN
BEGIN:VEVENT
UID:sabre-vobject-624e215e-d281-4019-a2e4-fbc9a59d2618
DTSTAMP:20260424T083630Z
SUMMARY:Bewegung durch Ganzkörpertraining für Männer
DESCRIPTION:https://keb-landkreis-augsburg.de/keb-landkreis-augsburg/verans
 taltungen-im-landkreis-augsburg/bewegung-durch-ganzkoerpertraining-fuer-ma
 enner_id299549
DTSTART;TZID=Europe/Berlin:20260427T200000
DTEND;TZID=Europe/Berlin:20260427T220000
LOCATION:LWS Turnhalle\, Breitweg 16\, 86830 Schwabmünchen
END:VEVENT
END:VCALENDAR
