BEGIN:VCALENDAR
VERSION:2.0
PRODID:-//Sabre//Sabre VObject 4.5.8//EN
CALSCALE:GREGORIAN
BEGIN:VEVENT
UID:sabre-vobject-60bdfe8c-a356-4c99-8e7e-2df6149bb975
DTSTAMP:20260425T105309Z
SUMMARY:Eltern Kind Gruppe:  Erziehungskompetenzen stärken mit Spiel und S
 paß
DESCRIPTION:https://keb-landkreis-augsburg.de/keb-landkreis-augsburg/verans
 taltungen-im-landkreis-augsburg/eltern-kind-gruppe-erziehungskompetenzen-s
 taerken-mit-spiel-und-spass_id299636
DTSTART;TZID=Europe/Berlin:20260630T093000
DTEND;TZID=Europe/Berlin:20260630T110000
LOCATION:Pfarrheim\, Hochstraße 2A\, 86399 Bobingen
END:VEVENT
END:VCALENDAR
