BEGIN:VCALENDAR
VERSION:2.0
PRODID:-//Sabre//Sabre VObject 4.5.8//EN
CALSCALE:GREGORIAN
BEGIN:VEVENT
UID:sabre-vobject-d9c123e3-63a0-4ed6-94b3-4a9328222910
DTSTAMP:20260421T101129Z
SUMMARY:Eltern Kind Gruppe:  Erziehungskompetenzen stärken mit Spiel und S
 paß
DESCRIPTION:https://keb-landkreis-augsburg.de/keb-landkreis-augsburg/verans
 taltungen-im-landkreis-augsburg/eltern-kind-gruppe-erziehungskompetenzen-s
 taerken-mit-spiel-und-spass_id299640
DTSTART;TZID=Europe/Berlin:20260728T093000
DTEND;TZID=Europe/Berlin:20260728T110000
LOCATION:Pfarrheim\, Hochstraße 2A\, 86399 Bobingen
END:VEVENT
END:VCALENDAR
