BEGIN:VCALENDAR
VERSION:2.0
PRODID:-//Sabre//Sabre VObject 4.5.8//EN
CALSCALE:GREGORIAN
BEGIN:VEVENT
UID:sabre-vobject-552284d0-096f-4fb4-bb37-5cc864a28f0b
DTSTAMP:20260419T183257Z
SUMMARY:Eltern Kind Gruppe: Entwicklungsprozesse begleiten\, Erziehungskomp
 etenzen stärken mit Spiel und Spaß
DESCRIPTION:https://keb-landkreis-augsburg.de/keb-landkreis-augsburg/verans
 taltungen-im-landkreis-augsburg/eltern-kind-gruppe-entwicklungsprozesse-be
 gleiten-erziehungskompetenzen-staerken-mit-spiel-und-spass_id299673
DTSTART;TZID=Europe/Berlin:20260713T093000
DTEND;TZID=Europe/Berlin:20260713T110000
LOCATION:Laurentiushaus\, Pestalozzistraße 6\, 86399 Bobingen
END:VEVENT
END:VCALENDAR
