BEGIN:VCALENDAR
VERSION:2.0
PRODID:-//Sabre//Sabre VObject 4.5.8//EN
CALSCALE:GREGORIAN
BEGIN:VEVENT
UID:sabre-vobject-18287388-db0b-4304-9489-1f90d534cb58
DTSTAMP:20260419T122042Z
SUMMARY:Eltern Kind Gruppe: Entwicklungsprozesse begleiten\, Erziehungskomp
 etenzen stärken mit Spiel und Spaß
DESCRIPTION:https://keb-landkreis-augsburg.de/keb-landkreis-augsburg/verans
 taltungen-im-landkreis-augsburg/eltern-kind-gruppe-entwicklungsprozesse-be
 gleiten-erziehungskompetenzen-staerken-mit-spiel-und-spass_id299675
DTSTART;TZID=Europe/Berlin:20260727T093000
DTEND;TZID=Europe/Berlin:20260727T110000
LOCATION:Laurentiushaus\, Pestalozzistraße 6\, 86399 Bobingen
END:VEVENT
END:VCALENDAR
