BEGIN:VCALENDAR
VERSION:2.0
PRODID:-//Sabre//Sabre VObject 4.5.8//EN
CALSCALE:GREGORIAN
BEGIN:VEVENT
UID:sabre-vobject-36c3c369-7a80-4a76-bc5a-b506491f94ec
DTSTAMP:20260419T133539Z
SUMMARY:Eltern Kind Gruppe:  Erziehungskompetenzen stärken mit Spiel und S
 paß
DESCRIPTION:https://keb-landkreis-augsburg.de/keb-landkreis-augsburg/verans
 taltungen-im-landkreis-augsburg/eltern-kind-gruppe-erziehungskompetenzen-s
 taerken-mit-spiel-und-spass_id299708
DTSTART;TZID=Europe/Berlin:20260703T093000
DTEND;TZID=Europe/Berlin:20260703T110000
LOCATION:Pfarrheim\, Hochstraße 2A\, 86399 Bobingen
END:VEVENT
END:VCALENDAR
