BEGIN:VCALENDAR
VERSION:2.0
PRODID:-//Sabre//Sabre VObject 4.5.8//EN
CALSCALE:GREGORIAN
BEGIN:VEVENT
UID:sabre-vobject-a6693dae-daaf-496d-a1dd-32147a81dc0d
DTSTAMP:20260419T133643Z
SUMMARY:Eltern Kind Gruppe: Entwicklungsprozesse begleiten\, Erziehungskomp
 etenzen stärken mit Spiel und Spaß
DESCRIPTION:https://keb-landkreis-augsburg.de/keb-landkreis-augsburg/verans
 taltungen-im-landkreis-augsburg/eltern-kind-gruppe-entwicklungsprozesse-be
 gleiten-erziehungskompetenzen-staerken-mit-spiel-und-spass_id299743
DTSTART;TZID=Europe/Berlin:20260702T093000
DTEND;TZID=Europe/Berlin:20260702T110000
LOCATION:Laurentiushaus\, Pestalozzistraße 6\, 86399 Bobingen
END:VEVENT
END:VCALENDAR
