BEGIN:VCALENDAR
VERSION:2.0
PRODID:-//Sabre//Sabre VObject 4.5.8//EN
CALSCALE:GREGORIAN
BEGIN:VEVENT
UID:sabre-vobject-e35b1b3e-af32-4a34-bfc8-7881715883e4
DTSTAMP:20260419T175517Z
SUMMARY:Eltern Kind Gruppe: Entwicklungsprozesse begleiten\, Erziehungskomp
 etenzen stärken mit Spiel und Spaß
DESCRIPTION:https://keb-landkreis-augsburg.de/keb-landkreis-augsburg/verans
 taltungen-im-landkreis-augsburg/eltern-kind-gruppe-entwicklungsprozesse-be
 gleiten-erziehungskompetenzen-staerken-mit-spiel-und-spass_id299745
DTSTART;TZID=Europe/Berlin:20260716T093000
DTEND;TZID=Europe/Berlin:20260716T110000
LOCATION:Laurentiushaus\, Pestalozzistraße 6\, 86399 Bobingen
END:VEVENT
END:VCALENDAR
