BEGIN:VCALENDAR
VERSION:2.0
PRODID:-//Sabre//Sabre VObject 4.5.8//EN
CALSCALE:GREGORIAN
BEGIN:VEVENT
UID:sabre-vobject-c6a8762a-5580-499b-be2e-92b98ed1743a
DTSTAMP:20260421T101200Z
SUMMARY:Eltern Kind Gruppe: Entwicklungsprozesse begleiten\, Erziehungskomp
 etenzen stärken mit Spiel und Spaß
DESCRIPTION:https://keb-landkreis-augsburg.de/keb-landkreis-augsburg/verans
 taltungen-im-landkreis-augsburg/eltern-kind-gruppe-entwicklungsprozesse-be
 gleiten-erziehungskompetenzen-staerken-mit-spiel-und-spass_id299782
DTSTART;TZID=Europe/Berlin:20260729T093000
DTEND;TZID=Europe/Berlin:20260729T110000
LOCATION:Laurentiushaus\, Pestalozzistraße 6\, 86399 Bobingen
END:VEVENT
END:VCALENDAR
