BEGIN:VCALENDAR
VERSION:2.0
PRODID:-//Sabre//Sabre VObject 4.5.8//EN
CALSCALE:GREGORIAN
BEGIN:VEVENT
UID:sabre-vobject-d2fd544a-a2c8-4b80-9ed4-f49f9e125421
DTSTAMP:20260419T170500Z
SUMMARY:Eltern Kind Gruppe: Spielen und Spaß für die Kinder\, Austausch 
 über Erziehungsrelevanten Themen für die Eltern
DESCRIPTION:https://keb-landkreis-augsburg.de/keb-landkreis-augsburg/verans
 taltungen-im-landkreis-augsburg/eltern-kind-gruppe-spielen-und-spass-fuer-
 die-kinder-austausch-ueber-erziehungsrelevanten-themen-fuer-die-eltern_id2
 99789
DTSTART;TZID=Europe/Berlin:20260708T153000
DTEND;TZID=Europe/Berlin:20260708T170000
LOCATION:Pfarrheim\, Martinsplatz 4\, 86482 Aystetten
END:VEVENT
END:VCALENDAR
