BEGIN:VCALENDAR
VERSION:2.0
PRODID:-//Sabre//Sabre VObject 4.5.8//EN
CALSCALE:GREGORIAN
BEGIN:VEVENT
UID:sabre-vobject-50d4a5d1-397a-4a1e-9dbf-4e5204921990
DTSTAMP:20260419T185136Z
SUMMARY:Eltern Kind Gruppe: Spielen und Spaß für die Kinder\, Austausch 
 über Erziehungsrelevanten Themen für die Eltern
DESCRIPTION:https://keb-landkreis-augsburg.de/keb-landkreis-augsburg/verans
 taltungen-im-landkreis-augsburg/eltern-kind-gruppe-spielen-und-spass-fuer-
 die-kinder-austausch-ueber-erziehungsrelevanten-themen-fuer-die-eltern_id2
 99817
DTSTART;TZID=Europe/Berlin:20260710T093000
DTEND;TZID=Europe/Berlin:20260710T110000
LOCATION:Pfarrheim\, Martinsplatz 4\, 86482 Aystetten
END:VEVENT
END:VCALENDAR
