BEGIN:VCALENDAR
VERSION:2.0
PRODID:-//Sabre//Sabre VObject 4.5.8//EN
CALSCALE:GREGORIAN
BEGIN:VEVENT
UID:sabre-vobject-c3a75e33-e3aa-46a7-b8be-ca674e097fdc
DTSTAMP:20260423T223909Z
SUMMARY:Klöppeln - Erlernen neuer Techniken für Anfänger und Fortgeschri
 ttene
DESCRIPTION:https://keb-landkreis-augsburg.de/keb-landkreis-augsburg/verans
 taltungen-im-landkreis-augsburg/kloeppeln-erlernen-neuer-techniken-fuer-an
 faenger-und-fortgeschrittene_id300733
DTSTART;TZID=Europe/Berlin:20260423T190000
DTEND;TZID=Europe/Berlin:20260423T210000
LOCATION:Laurentiushaus\, Pestalozzistraße 6\, 86399 Bobingen
END:VEVENT
END:VCALENDAR
