BEGIN:VCALENDAR
VERSION:2.0
PRODID:-//Sabre//Sabre VObject 4.5.8//EN
CALSCALE:GREGORIAN
BEGIN:VEVENT
UID:sabre-vobject-90dcd746-1da8-4bf4-aae7-dde68d2a470d
DTSTAMP:20260424T083630Z
SUMMARY:Gymnastik für Frauen
DESCRIPTION:https://keb-landkreis-augsburg.de/keb-landkreis-augsburg/verans
 taltungen-im-landkreis-augsburg/gymnastik-fuer-frauen_id300788
DTSTART;TZID=Europe/Berlin:20260429T173000
DTEND;TZID=Europe/Berlin:20260429T183000
LOCATION:Laurentiushaus\, Pestalozzistraße 6\, 86399 Bobingen
END:VEVENT
END:VCALENDAR
