BEGIN:VCALENDAR
VERSION:2.0
PRODID:-//Sabre//Sabre VObject 4.5.8//EN
CALSCALE:GREGORIAN
BEGIN:VEVENT
UID:sabre-vobject-1a38feb5-3177-4c07-8424-2edb9ece72ba
DTSTAMP:20260424T083228Z
SUMMARY:Fit bleiben durch Bewegung - Nordic Walking
DESCRIPTION:https://keb-landkreis-augsburg.de/keb-landkreis-augsburg/verans
 taltungen-im-landkreis-augsburg/fit-bleiben-durch-bewegung-nordic-walking_
 id300966
DTSTART;TZID=Europe/Berlin:20260429T083000
DTEND;TZID=Europe/Berlin:20260429T100000
LOCATION:Pfarrheim\, Georgenstraße 22\, 86456 Gablingen
END:VEVENT
END:VCALENDAR
