BEGIN:VCALENDAR
VERSION:2.0
PRODID:-//Sabre//Sabre VObject 4.5.8//EN
CALSCALE:GREGORIAN
BEGIN:VEVENT
UID:sabre-vobject-d089cff6-3b1f-4037-80b7-8f14a4f1f724
DTSTAMP:20260423T221406Z
SUMMARY:Fit bleiben durch Bewegung - Nordic Walking
DESCRIPTION:https://keb-landkreis-augsburg.de/keb-landkreis-augsburg/verans
 taltungen-im-landkreis-augsburg/fit-bleiben-durch-bewegung-nordic-walking_
 id301017
DTSTART;TZID=Europe/Berlin:20260427T083000
DTEND;TZID=Europe/Berlin:20260427T100000
LOCATION:Pfarrheim\, Georgenstraße 22\, 86456 Gablingen
END:VEVENT
END:VCALENDAR
