BEGIN:VCALENDAR
VERSION:2.0
PRODID:-//Sabre//Sabre VObject 4.5.8//EN
CALSCALE:GREGORIAN
BEGIN:VEVENT
UID:sabre-vobject-956e65df-c812-4b95-8d65-18c7e3b270c3
DTSTAMP:20260419T151026Z
SUMMARY:Eltern Kind Gruppe für Eltern von Kleinkindern:
DESCRIPTION:https://keb-landkreis-augsburg.de/keb-landkreis-augsburg/verans
 taltungen-im-landkreis-augsburg/eltern-kind-gruppe-fuer-eltern-von-kleinki
 ndern_id304368
DTSTART;TZID=Europe/Berlin:20260707T093000
DTEND;TZID=Europe/Berlin:20260707T110000
LOCATION:Pfarrhaus zum alten Pfarrhaus St. Stephan\, Am Kirchberg 10\, 8635
 6 Neusäß
END:VEVENT
END:VCALENDAR
