BEGIN:VCALENDAR
VERSION:2.0
PRODID:-//Sabre//Sabre VObject 4.5.8//EN
CALSCALE:GREGORIAN
BEGIN:VEVENT
UID:sabre-vobject-e18edd1e-c6af-40ac-86c6-660a573ae58d
DTSTAMP:20260419T183416Z
SUMMARY:Eltern Kind Gruppe: wichtige Erziehungsthemen für Eltern von Klein
 kindern
DESCRIPTION:https://keb-landkreis-augsburg.de/keb-landkreis-augsburg/verans
 taltungen-im-landkreis-augsburg/eltern-kind-gruppe-wichtige-erziehungsthem
 en-fuer-eltern-von-kleinkindern_id304434
DTSTART;TZID=Europe/Berlin:20260713T100000
DTEND;TZID=Europe/Berlin:20260713T113000
LOCATION:Raum Sankt Ulrich\, Schrannenplatz 3\, 86830 Schwabmünchen
END:VEVENT
END:VCALENDAR
