BEGIN:VCALENDAR
VERSION:2.0
PRODID:-//Sabre//Sabre VObject 4.5.8//EN
CALSCALE:GREGORIAN
BEGIN:VEVENT
UID:sabre-vobject-5c1ff0a4-30bd-453f-86e2-6d5957c55518
DTSTAMP:20260419T185136Z
SUMMARY:Eltern Kind Gruppe: wichtige Erziehungsthemen für Eltern von Klein
 kindern
DESCRIPTION:https://keb-landkreis-augsburg.de/keb-landkreis-augsburg/verans
 taltungen-im-landkreis-augsburg/eltern-kind-gruppe-wichtige-erziehungsthem
 en-fuer-eltern-von-kleinkindern_id304507
DTSTART;TZID=Europe/Berlin:20260715T094500
DTEND;TZID=Europe/Berlin:20260715T110000
LOCATION:Pfarrheim\, Ferdinand-Wagner-Straße 5\, 86830 Schwabmünchen
END:VEVENT
END:VCALENDAR
