BEGIN:VCALENDAR
VERSION:2.0
PRODID:-//Sabre//Sabre VObject 4.5.8//EN
CALSCALE:GREGORIAN
BEGIN:VEVENT
UID:sabre-vobject-a11048ce-7b5b-4d7e-9bee-55fa54e8c4a0
DTSTAMP:20260421T084329Z
SUMMARY:Eltern Kind Gruppe: wichtige Erziehungsthemen für Eltern von Klein
 kindern
DESCRIPTION:https://keb-landkreis-augsburg.de/keb-landkreis-augsburg/verans
 taltungen-im-landkreis-augsburg/eltern-kind-gruppe-wichtige-erziehungsthem
 en-fuer-eltern-von-kleinkindern_id304581
DTSTART;TZID=Europe/Berlin:20260731T093000
DTEND;TZID=Europe/Berlin:20260731T103000
LOCATION:Pfarrheim\, Ferdinand-Wagner-Straße 5\, 86830 Schwabmünchen
END:VEVENT
END:VCALENDAR
