BEGIN:VCALENDAR
VERSION:2.0
PRODID:-//Sabre//Sabre VObject 4.5.8//EN
CALSCALE:GREGORIAN
BEGIN:VEVENT
UID:sabre-vobject-0b1a9f11-5e5c-49ed-9168-c2065599835c
DTSTAMP:20260419T130303Z
SUMMARY:Eltern Kind Gruppe: wichtige Erziehungsthemen für Eltern von Klein
 kindern
DESCRIPTION:https://keb-landkreis-augsburg.de/keb-landkreis-augsburg/verans
 taltungen-im-landkreis-augsburg/eltern-kind-gruppe-wichtige-erziehungsthem
 en-fuer-eltern-von-kleinkindern_id304616
DTSTART;TZID=Europe/Berlin:20260724T090000
DTEND;TZID=Europe/Berlin:20260724T103000
LOCATION:Pfarrheim\, Ferdinand-Wagner-Straße 5\, 86830 Schwabmünchen
END:VEVENT
END:VCALENDAR
