BEGIN:VCALENDAR
VERSION:2.0
PRODID:-//Sabre//Sabre VObject 4.5.8//EN
CALSCALE:GREGORIAN
BEGIN:VEVENT
UID:sabre-vobject-33911f92-6acd-4164-875a-0cf53f537f1c
DTSTAMP:20260421T101129Z
SUMMARY:Eltern Kind Gruppe: wichtige Erziehungsthemen für Eltern von Klein
 kindern
DESCRIPTION:https://keb-landkreis-augsburg.de/keb-landkreis-augsburg/verans
 taltungen-im-landkreis-augsburg/eltern-kind-gruppe-wichtige-erziehungsthem
 en-fuer-eltern-von-kleinkindern_id304677
DTSTART;TZID=Europe/Berlin:20260630T093000
DTEND;TZID=Europe/Berlin:20260630T110000
LOCATION:DGH Dorfgemeinschaftshaus Schwabegg\, Kirchweg 1\, 86830 Schwabmü
 nchen
END:VEVENT
END:VCALENDAR
