BEGIN:VCALENDAR
VERSION:2.0
PRODID:-//Sabre//Sabre VObject 4.5.8//EN
CALSCALE:GREGORIAN
BEGIN:VEVENT
UID:sabre-vobject-cfe475d6-7edb-4b1c-9da6-9a2235053a1f
DTSTAMP:20260419T151156Z
SUMMARY:Eltern Kind Gruppe: wichtige Erziehungsthemen für Eltern von Klein
 kindern
DESCRIPTION:https://keb-landkreis-augsburg.de/keb-landkreis-augsburg/verans
 taltungen-im-landkreis-augsburg/eltern-kind-gruppe-wichtige-erziehungsthem
 en-fuer-eltern-von-kleinkindern_id304678
DTSTART;TZID=Europe/Berlin:20260707T093000
DTEND;TZID=Europe/Berlin:20260707T110000
LOCATION:DGH Dorfgemeinschaftshaus Schwabegg\, Kirchweg 1\, 86830 Schwabmü
 nchen
END:VEVENT
END:VCALENDAR
