BEGIN:VCALENDAR
VERSION:2.0
PRODID:-//Sabre//Sabre VObject 4.5.8//EN
CALSCALE:GREGORIAN
BEGIN:VEVENT
UID:sabre-vobject-daed3cee-f90c-493b-93b9-31108dad3d55
DTSTAMP:20260419T215020Z
SUMMARY:Eltern Kind Gruppe: wichtige Erziehungsthemen für Eltern von Klein
 kindern
DESCRIPTION:https://keb-landkreis-augsburg.de/keb-landkreis-augsburg/verans
 taltungen-im-landkreis-augsburg/eltern-kind-gruppe-wichtige-erziehungsthem
 en-fuer-eltern-von-kleinkindern_id304679
DTSTART;TZID=Europe/Berlin:20260714T093000
DTEND;TZID=Europe/Berlin:20260714T110000
LOCATION:DGH Dorfgemeinschaftshaus Schwabegg\, Kirchweg 1\, 86830 Schwabmü
 nchen
END:VEVENT
END:VCALENDAR
