BEGIN:VCALENDAR
VERSION:2.0
PRODID:-//Sabre//Sabre VObject 4.5.8//EN
CALSCALE:GREGORIAN
BEGIN:VEVENT
UID:sabre-vobject-f0800747-591e-46ea-9007-2d2dc7a85c88
DTSTAMP:20260421T101212Z
SUMMARY:Eltern Kind Gruppe: wichtige Erziehungsthemen für Eltern von Klein
 kindern
DESCRIPTION:https://keb-landkreis-augsburg.de/keb-landkreis-augsburg/verans
 taltungen-im-landkreis-augsburg/eltern-kind-gruppe-wichtige-erziehungsthem
 en-fuer-eltern-von-kleinkindern_id304717
DTSTART;TZID=Europe/Berlin:20260728T093000
DTEND;TZID=Europe/Berlin:20260728T110000
LOCATION:Pfarrheim\, Ferdinand-Wagner-Straße 5\, 86830 Schwabmünchen
END:VEVENT
END:VCALENDAR
