BEGIN:VCALENDAR
VERSION:2.0
PRODID:-//Sabre//Sabre VObject 4.5.8//EN
CALSCALE:GREGORIAN
BEGIN:VEVENT
UID:sabre-vobject-88e04f07-5f03-4383-8435-e27b8874f0bc
DTSTAMP:20260421T122141Z
SUMMARY:Handarbeitskreis für Senioren: wir sticken\, häkeln\, sticken\, b
 asteln und spielen auch manchmal
DESCRIPTION:https://keb-landkreis-augsburg.de/keb-landkreis-augsburg/verans
 taltungen-im-landkreis-augsburg/handarbeitskreis-fuer-senioren-wir-sticken
 -haekeln-sticken-basteln-und-spielen-auch-manchmal_id304874
DTSTART;TZID=Europe/Berlin:20261027T140000
DTEND;TZID=Europe/Berlin:20261027T170000
LOCATION:Gemeindezentrum\, Alpenstraße 10\, 86868 Mittelneufnach
END:VEVENT
END:VCALENDAR
