BEGIN:VCALENDAR
VERSION:2.0
PRODID:-//Sabre//Sabre VObject 4.5.8//EN
CALSCALE:GREGORIAN
BEGIN:VEVENT
UID:sabre-vobject-f9ae30a1-997c-4a02-be54-98a450df8123
DTSTAMP:20260420T224623Z
SUMMARY:Vertiefungstag Trauer für alle\, die in der Trauerbegleitung täti
 g sind
DESCRIPTION:https://keb-landkreis-augsburg.de/keb-landkreis-augsburg/verans
 taltungen-im-landkreis-augsburg/vertiefungstag-trauer-fuer-alle-die-in-der
 -trauerbegleitung-taetig-sind_id306956
DTSTART;TZID=Europe/Berlin:20261003T090000
LOCATION:Exerzitienhaus St. Paulus\, Krippackerstraße 6\, 86391 Stadtberge
 n
END:VEVENT
END:VCALENDAR
