BEGIN:VCALENDAR
VERSION:2.0
PRODID:-//Sabre//Sabre VObject 4.5.8//EN
CALSCALE:GREGORIAN
BEGIN:VEVENT
UID:sabre-vobject-4e84b3d3-50b6-468f-b898-38a95ded1188
DTSTAMP:20260419T160158Z
SUMMARY:Eltern-Kind-Gruppe: Austausch zu aktuellen Erziehungsfragen
DESCRIPTION:https://keb-landkreis-augsburg.de/keb-landkreis-augsburg/verans
 taltungen-im-landkreis-augsburg/eltern-kind-gruppe-austausch-zu-aktuellen-
 erziehungsfragen_id307518
DTSTART;TZID=Europe/Berlin:20260721T090000
DTEND;TZID=Europe/Berlin:20260721T110000
LOCATION:Pfarrheim\, Kirchplatz 1\, 86368 Gersthofen
END:VEVENT
END:VCALENDAR
