BEGIN:VCALENDAR
VERSION:2.0
PRODID:-//Sabre//Sabre VObject 4.5.8//EN
CALSCALE:GREGORIAN
BEGIN:VEVENT
UID:sabre-vobject-b4052f15-820d-49f3-ada4-65a6d93f79f4
DTSTAMP:20260421T113626Z
SUMMARY:Eltern-Kind-Gruppe: Austausch zu aktuellen Erziehungsfragen
DESCRIPTION:https://keb-landkreis-augsburg.de/keb-landkreis-augsburg/verans
 taltungen-im-landkreis-augsburg/eltern-kind-gruppe-austausch-zu-aktuellen-
 erziehungsfragen_id307620
DTSTART;TZID=Europe/Berlin:20260630T150000
DTEND;TZID=Europe/Berlin:20260630T170000
LOCATION:Pfarrheim\, Kirchplatz 1\, 86368 Gersthofen
END:VEVENT
END:VCALENDAR
