BEGIN:VCALENDAR
VERSION:2.0
PRODID:-//Sabre//Sabre VObject 4.5.8//EN
CALSCALE:GREGORIAN
BEGIN:VEVENT
UID:sabre-vobject-c79e7308-1500-4880-b51f-5f4105035ffb
DTSTAMP:20260424T083141Z
SUMMARY:Fit mit Line Dance
DESCRIPTION:https://keb-landkreis-augsburg.de/keb-landkreis-augsburg/verans
 taltungen-im-landkreis-augsburg/fit-mit-line-dance_id309117
DTSTART;TZID=Europe/Berlin:20260428T193000
DTEND;TZID=Europe/Berlin:20260428T203000
LOCATION:Begegnungshaus Obermeitingen\, Kirchberg 9\, 86836 Obermeitingen
END:VEVENT
END:VCALENDAR
