BEGIN:VCALENDAR
VERSION:2.0
PRODID:-//Sabre//Sabre VObject 4.5.8//EN
CALSCALE:GREGORIAN
BEGIN:VEVENT
UID:sabre-vobject-07fe17ba-d3e9-4cd5-a76a-1c3d9f2a4bf0
DTSTAMP:20260419T185240Z
SUMMARY:Eltern Kind Gruppe: Diskussionsraum über pädagogische\, psycholog
 ische und gesellschaftliche Themen rund um die Familie
DESCRIPTION:https://keb-landkreis-augsburg.de/keb-landkreis-augsburg/verans
 taltungen-im-landkreis-augsburg/eltern-kind-gruppe-diskussionsraum-ueber-p
 aedagogische-psychologische-und-gesellschaftliche-themen-rund-um-die-famil
 ie_id315158
DTSTART;TZID=Europe/Berlin:20260715T094500
DTEND;TZID=Europe/Berlin:20260715T114500
LOCATION:Pfarrheim\, Kirchweg 2\, 86462 Langweid am Lech
END:VEVENT
END:VCALENDAR
