BEGIN:VCALENDAR
VERSION:2.0
PRODID:-//Sabre//Sabre VObject 4.5.8//EN
CALSCALE:GREGORIAN
BEGIN:VEVENT
UID:sabre-vobject-df285e03-f558-4153-84d3-6f3526af63c8
DTSTAMP:20260421T084550Z
SUMMARY:Eltern Kind Gruppe: Erziehungsrelevante Themen für Eltern von Klei
 nkindern austauschen\, Kinder spielerisch fördern
DESCRIPTION:https://keb-landkreis-augsburg.de/keb-landkreis-augsburg/verans
 taltungen-im-landkreis-augsburg/eltern-kind-gruppe-erziehungsrelevante-the
 men-fuer-eltern-von-kleinkindern-austauschen-kinder-spielerisch-foerdern_i
 d315238
DTSTART;TZID=Europe/Berlin:20260626T093000
DTEND;TZID=Europe/Berlin:20260626T113000
LOCATION:Pfarrheim\, Augsburger Straße 1\, 86845 Großaitingen
END:VEVENT
END:VCALENDAR
